BEGIN:VCALENDAR
VERSION:2.0
PRODID:icalendar-ruby
CALSCALE:GREGORIAN
METHOD:PUBLISH
BEGIN:VEVENT
DTSTAMP:20260424T003002Z
UID:9-829337@newhope160.tithelysetup5.com
DTSTART:20260723T020000Z
DTEND:20260723T030000Z
CLASS:PUBLIC
CREATED:20260423T162621
DESCRIPTION:
LAST-MODIFIED:20260423T162621
LOCATION:Auditorium - Auditorio
SUMMARY:Prayer Night - Noche de oración
URL;VALUE=URI:https://anewhope.church/events/prayer-night-noche-de-oracion/
 2026-07-22
ATTACH;FILENAME=4ozW.jpg;FMTTYPE=image/jpeg:https://dq5pwpg1q8ru0.cloudfron
 t.net/2023/06/25/19/53/53/1669c218-36df-444f-9926-7dfa78b5c4bb/4ozW.jpg
ATTACH;FILENAME=TtnJ.jpg;FMTTYPE=image/jpeg:https://dq5pwpg1q8ru0.cloudfron
 t.net/2023/06/25/19/53/54/fe11839d-72d1-48b3-90d8-3780d5f928de/TtnJ.jpg
END:VEVENT
END:VCALENDAR
